BEGIN:VCALENDAR
VERSION:2.0
PRODID:-//eventon.com NONSGML v1.0//EN
BEGIN:VEVENT
UID:69e5fda625250
DTSTAMP:20260420T121918
DTSTART:20260425T094500Z
DTEND:20260425T103000Z
LOCATION:Fitness- und Gesundheitssportzentrum Berkacher Weg 2\,  64572 Büttelborn
SUMMARY:Gutes für den unteren Rücken
DESCRIPTION: In diesem Sonderkurs dreht sich alles um die Mobilisation & Stabilisation der Lendenwirbelsäule (LWS) und des Iliosakralgelenks (ISG). Teilnehmen kann jeder\,  der etwas Gutes für seinen unteren Rücken tun möchte.
END:VEVENT
END:VCALENDAR