BEGIN:VCALENDAR
VERSION:2.0
PRODID:-//eventon.com NONSGML v1.0//EN
BEGIN:VEVENT
UID:69e77d9001204
DTSTAMP:20260421T153720
DTSTART:20260321T090000Z
DTEND:20260321T100000Z
LOCATION:Fitness- und Gesundheitssportzentrum Berkacher Weg 2\,  64572 Büttelborn
SUMMARY:Pilates mit Pilates Ring
DESCRIPTION: In diesem Sonderkurs werden die klassischen Pilatesübungen mit dem Pilates Ring. verbunden. Manche Übungen werden dadurch leichter\,  andere schwerer. Teilnehmen kann jeder\,  es sind keine Pilateskenntnisse erforderlich.
END:VEVENT
END:VCALENDAR